BEGIN:VCALENDAR
VERSION:2.0
PRODID:icalendar-ruby
CALSCALE:GREGORIAN
METHOD:PUBLISH
BEGIN:VEVENT
DTSTAMP:20260422T010953Z
UID:9-1239103@ptxchurch.com
DTSTART:20260920T211000Z
DTEND:20260920T231000Z
CLASS:PUBLIC
CREATED:20260421T155713
DESCRIPTION:Come gather with us at 2:00 pm.  Our service begins at 2:10pm
LAST-MODIFIED:20260421T155713
LOCATION:
SUMMARY:Sunday Worship
URL;VALUE=URI:https://www.ptxchurch.com/events/sunday-worship/2026-09-20
END:VEVENT
END:VCALENDAR
