BEGIN:VCALENDAR
VERSION:2.0
PRODID:icalendar-ruby
CALSCALE:GREGORIAN
METHOD:PUBLISH
BEGIN:VEVENT
DTSTAMP:20260422T041922Z
UID:9-1239166@ptxchurch.com
DTSTART:20261004T211000Z
DTEND:20261004T231000Z
CLASS:PUBLIC
CREATED:20260421T183534
DESCRIPTION:Come gather with us at 2:00 pm.  Our service begins at 2:10pm
LAST-MODIFIED:20260421T183534
LOCATION:
SUMMARY:Sunday Worship
URL;VALUE=URI:https://www.ptxchurch.com/events/sunday-worship/2026-10-04
END:VEVENT
END:VCALENDAR
