BEGIN:VCALENDAR
VERSION:2.0
PRODID:icalendar-ruby
CALSCALE:GREGORIAN
METHOD:PUBLISH
BEGIN:VEVENT
DTSTAMP:20260422T085831Z
UID:9-1239169@ptxchurch.com
DTSTART:20261025T211000Z
DTEND:20261025T231000Z
CLASS:PUBLIC
CREATED:20260421T183534
DESCRIPTION:Come gather with us at 2:00 pm.  Our service begins at 2:10pm
LAST-MODIFIED:20260421T183534
LOCATION:
SUMMARY:Sunday Worship
URL;VALUE=URI:https://www.ptxchurch.com/events/sunday-worship/2026-10-25
END:VEVENT
END:VCALENDAR
